BEGIN:VCALENDAR
VERSION:2.0
PRODID:https://github.com/derhansen/sf_event_mgt
METHOD:PUBLISH
BEGIN:VEVENT
UID:3360-141@isb.rlp.de
CLASS: PUBLIC
SUMMARY:Zukunft Jetzt: Arbeit, KI & Nachhaltigkeit im Wandel
DESCRIPTION:Die Arbeitswelt befindet sich im Umbruch: Künstliche Intelligen
 z verändert Prozesse, Nachhaltigkeit wird zum Wettbewerbsfaktor und neue Fo
 rmen der Zusammenarbeit entstehen. Gerade für mittelständische Unternehmen 
 ergeben sich daraus Chancen – aber auch Fragen.\n\nWir laden Sie herzlich e
 in zur Veranstaltung „Zukunft Jetzt: Arbeit, KI & Nachhaltigkeit im Wandel“
 , bei der Expertinnen und Experten aus Wirtschaft, Wissenschaft und Praxis 
 Impulse geben, wie der Mittelstand aktiv Zukunft gestalten kann. Freuen Sie
  sich zum einen auf einen praxisnahen Vortrag von Frank Eilers, Speaker für
  Arbeit, Digitalisierung & KI zum Thema „Die Zukunft der Arbeit – Digitale 
 und nachhaltige Transformation aktiv gestalten“ und zum anderen auf lebendi
 ge Diskussionen und die Möglichkeit zum Austausch mit anderen Unternehmerin
 nen und Unternehmern aus Rheinland-Pfalz.\n\nDie Veranstaltung ist für Sie 
 kostenfrei und findet in der DENKFABRIK in Bad Marienberg statt.\n\nFühlen 
 Sie sich herzlichst eingeladen und willkommen. Um vorherige Anmeldung wird 
 gebeten.\n\nGestalten Sie den Wandel mit – wir freuen uns auf Ihre Teilnahm
 e!
LOCATION:Denkfabrik
DTSTAMP:20251013T100116Z
DTSTART:20251105T153000Z
DTEND:20251105T173000Z
END:VEVENT
END:VCALENDAR
