BEGIN:VCALENDAR
VERSION:2.0
PRODID:https://github.com/derhansen/sf_event_mgt
METHOD:PUBLISH
BEGIN:VEVENT
UID:1551-141@isb.rlp.de
CLASS: PUBLIC
SUMMARY:Wirtschaftsreise Südafrika und Sambia 10.-18.11.2018
DESCRIPTION:Hohes Bevölkerungswachstum, eine zunehmende Mittelschicht, Urba
 nisierung, regionale Integration und eine wachsende Privatwirtschaft sind d
 ie zukünftigen Wachstumsmotoren für den Kontinent. \n\n Die Märkte in Subsa
 hara-Afrika befinden sich in einem Prozess des wirtschaftlichen Wandels. St
 eigende Kaufkraft einer jungen Bevölkerung, umfangreiche Investitionsprojek
 te und Technologiesprünge bieten gute Chancen für unternehmerisches Engagem
 ent. \n\n Auf unserer Wirtschaftsreise nach Südafrika und Sambia können Sie
  sich hiervon persönlich ein Bild machen. Begleiten Sie uns vom 10. bis 18.
  November 2018 zu den beiden großen Volkswirtschaften im südlichen Afrika u
 nd loten Sie Marktchancen für Ihr Unternehmen aus. Sie erhalten vor Ort ind
 ividuelle Gespräche mit potenziellen Geschäftspartnern und wertvolle Inform
 ationen sowie Erfahrungsberichte aus erster Hand. \n\n Sie sind an der Reis
 e interessiert? Alle wichtigen Informationen finden Sie hier. \n\n Das Prog
 ramm mit Anmeldung entnehmen Sie folgendem Download. Nutzen Sie unsere umfa
 ngreiche Unterstützung für Ihren erfolgreichen Start auf dem afrikanischen 
 Markt.\n\nAnmeldeschluss: 24.08.2018\n\n\n\n
DTSTAMP:20180816T122834Z
DTSTART:20181110T194500Z
DTEND:20181118T042500Z
END:VEVENT
END:VCALENDAR
