BEGIN:VCALENDAR
VERSION:2.0
PRODID:https://github.com/derhansen/sf_event_mgt
METHOD:PUBLISH
BEGIN:VEVENT
UID:2933-141@isb.rlp.de
CLASS: PUBLIC
SUMMARY:Webinar Steuerliche Änderungen zum Jahreswechsel 2021/2022
DESCRIPTION:Am 15. Februar 2022 informiert die IHK Pfalz gemeinsam mit der 
 Steuerberaterkammer Rheinland-Pfalz in einem kostenfreien Webinar über die 
 steuerlichen Änderungen zum Jahreswechsel 2021/2022. Der praxiserprobte Ref
 erent, Bernhard M. Kinzinger, erläutert die wesentlichen Neuerungen, weist 
 auf aktuelle Gesetzgebungsverfahren hin und gibt Handlungsempfehlungen.\n\n
 Eine Online-Anmeldung ist möglich über unsere Internetseite www.pfalz.ihk24
 .de unter der Such-Nr. 149158393. 
DTSTAMP:20220126T085710Z
DTSTART:20220215T160000Z
END:VEVENT
END:VCALENDAR
