BEGIN:VCALENDAR
VERSION:2.0
PRODID:https://github.com/derhansen/sf_event_mgt
METHOD:PUBLISH
BEGIN:VEVENT
UID:2957-141@isb.rlp.de
CLASS: PUBLIC
SUMMARY:Webinar: Exportkontrolle in der aktuellen Situation Russland / Ukra
 ine
DESCRIPTION:Die politische Situation in der Ukraine und Russland hat Auswir
 kungen auf die in Deutschland anzuwendende Exportkontrolle. Die Arbeitsgeme
 inschaft International der IHKs in Rheinland-Pfalz organisiert hierzu ein k
 ostenfreies Webinar.\n\nRechtsanwalt Dr. Ehrlich gibt einen Überblick über 
 die Rechtslage und ordnet die Sanktionsmaßnahmen von EU und USA ein. Nach e
 iner kurzen Einführung in die Exportkontrolle wird es dann um die betriebli
 che Umsetzung der Rechtsakte gehen.\n\nWeitere Informationen finden Sie hie
 r.
LOCATION:Digital
DTSTAMP:20220304T094340Z
DTSTART:20220318T090000Z
DTEND:20220318T103000Z
END:VEVENT
END:VCALENDAR
