BEGIN:VCALENDAR
VERSION:2.0
PRODID:https://github.com/derhansen/sf_event_mgt
METHOD:PUBLISH
BEGIN:VEVENT
UID:2958-141@isb.rlp.de
CLASS: PUBLIC
SUMMARY:Online-Veranstaltungen und Ausstellung "Mehr bezahlbarer Wohnraum i
 n Rheinland-Pfalz"
DESCRIPTION:In vielen Städten in Rheinland-Pfalz ist bezahlbarer Wohnraum M
 angelware. Auch in Neuwied steigen die Mieten und es gibt zunehmend einen B
 edarf an bezahlbarem Wohnraum. Die Ausstellung (16.-31.3.2022) beschreibt d
 ie Wohnungsmarktentwicklung in Deutschland. Es werden die besonderen Heraus
 forderungen für Rheinland Pfalz und das Saarland genannt und Wohnbauprojekt
 e vorgestellt, die auf kommunaler Ebene bereits verwirklicht wurden. Die Au
 sstellung erklärt verständlich Fachbegriffe und thematisiert konkrete Handl
 ungsschritte.\n\nDer DGB Koblenz Stadt Neuwied, der Gemeinschaftlich Wohnen
  Neuwied e. V., der Mieterbund Mittelrhein, der Sozialverband VDK und die F
 riedrich-Ebert-Stiftung laden Sie herzlich ein!\n\nÖffnungszeiten:\n\nMonta
 g, Dienstag, Mittwoch & Freitag 9.00 bis 12.30 Uhr + 14.00 bis 16.00 Uhr\n\
 nDonnerstag 9.00 bis 12.30 Uhr + 14.00 bis 18.00 Uhr\n\nWir freuen uns auf 
 Ihr Kommen.\n\nZur Ausstellung finden Begleit-Veranstaltungen statt:\n\n17.
  März 2022, 16:00-17:00 Uhr\n\n„Vielfältige Unterstützung in RLP für Vermie
 ter, Investoren und Häuslebauer“ mit Alexandra Wüst, Sachgebietsleitung Woh
 nraum, Investitions- und Strukturbank Rheinland Pfalz (ISB) und Myriam Lauz
 i, DGB Rheinland Pfalz/Saarland  \n\n24. März 2022, 16.00 bis 17.30 Uhr\n\n
 „Realisierte Beispiele aus der Praxis: Wie geht bezahlbarer Wohnraum?“ mit 
 Jan H. Eitel, Trier, Projektentwickler und Realisierer, auch von nachhaltig
 em Wohnungsbau und Myriam Lauzi, DGB Rheinland-Pfalz/Saarland\n\nHier geht 
 es zur Anmeldung.\n\n\n\n 
LOCATION:Digital
DTSTAMP:20220314T093649Z
DTSTART:20220317T150000Z
DTEND:20220317T163000Z
END:VEVENT
END:VCALENDAR
