BEGIN:VCALENDAR
VERSION:2.0
PRODID:https://github.com/derhansen/sf_event_mgt
METHOD:PUBLISH
BEGIN:VEVENT
UID:2717-141@isb.rlp.de
CLASS: PUBLIC
SUMMARY:Online Seminar: We move it - Fördermittel in der Fahrzeugindustrie 
 gezielt nutzen
DESCRIPTION:Die Fahrzeugindustrie gehört zu den strukturbestimmenden Branch
 en des Industriestandortes Rheinland-Pfalz. Bereits seit einigen Jahren bef
 indet sie sich insbesondere in den Bereichen der Antriebstechnologien sowie
  der Digitalisierung in einem umfassenden Transformationsprozess. Die aktue
 llen Folgen der Corona-Krise und deren globale wirtschaftliche Konsequenzen
  führen zudem zu erheblichen Nachfrage- und zu Finanzierungsproblemen - ger
 ade bei den Zulieferunternehmen. Es gilt im Transformationsprozess die Inno
 vations- und damit auch Wettbewerbsfähigkeit der Unternehmen zu sichern und
  gleichzeitig deren Finanzierung auf gesunde Beine zu stellen.\n\nIm Web-Se
 minar „We move it: Fördermittel in der Fahrzeugindustrie gezielt nutzen“, s
 tellt die ISB in Zusammenarbeit mit dem Ministerium für Wirtschaft, Verkehr
 , Landwirtschaft und Weinbau sowie der Initiative „We move it“ vor, wie die
  Branche - insbesondere KMU - auf Landesebene gefördert werden können.  Inf
 ormationen zur Agenda und zum Anmeldeverfahren unter: https://wemoveit.rlp.
 de/veranstaltungen/foerderinstrumente-isb/
DTSTAMP:20200818T123927Z
DTSTART:20200901T140000Z
END:VEVENT
END:VCALENDAR
