BEGIN:VCALENDAR
VERSION:2.0
PRODID:https://github.com/derhansen/sf_event_mgt
METHOD:PUBLISH
BEGIN:VEVENT
UID:1567-141@isb.rlp.de
CLASS: PUBLIC
SUMMARY:Unternehmen fit für die Zukunft
DESCRIPTION:Mit Blick auf die Zukunft werden im Handwerk die Themen Unterne
 hmensnachfolge sowie Fachkräftesicherung immer wichtiger. Auch der technisc
 he Fortschritt und die Digitalisierung bieten den Handwerksbetrieben neue C
 hancen und Möglichkeiten.Handwerkliche Produkte und Dienstleistungen sind i
 n allen Lebensbereichen unverzichtbar. Kein anderer Wirtschaftszweig führt 
 so konsequent zu Existenzgründungen wie das Handwerk. Neugründungen spielen
  dabei eine ebenso große Rolle wie die langfristige Sicherung eines bestehe
 nden Betriebes.Die Perspektiven des Handwerks der Zukunft, sind Thema der i
 m Rahmen des Projekts „Handwerk attraktiv Rheinland-Pfalz“ initiierten Vera
 nstaltung „Unternehmen fit für die Zukunft“. Das Ministerium für Wirtschaft
 , Verkehr, Landwirtschaft und Weinbau Rheinland-Pfalz, die Investitions- un
 d Strukturbank Rheinland-Pfalz (ISB) und die rheinland-pfälzischen Handwerk
 skammern möchten selbstständigen und angestellten Handwerkerinnen und Handw
 erkern die Möglichkeit des Austauschs mit Experten aus Wirtschaft, Politik 
 und den regionalen Förderinstitutionen bieten. Neben einem spannenden Impul
 s von Matthias Herzog, Experte für Persönlichkeitsentwicklung und Leistungs
 steigerung, sollen in themenbezogenen World Cafés die genannten Herausforde
 rungen aus unterschiedlichen Blickwinkeln diskutiert und Lösungsansätze ent
 wickelt werden. Wir laden Sie herzlich ein, dabei zu sein. Machen Sie Ihr U
 nternehmen fit für die Zukunft.
LOCATION:Handwerkskammer Koblenz - Zentrum für Ernährung und Gesundheit
DTSTAMP:20181017T123404Z
DTSTART:20181023T160000Z
END:VEVENT
END:VCALENDAR
