BEGIN:VCALENDAR
VERSION:2.0
PRODID:https://github.com/derhansen/sf_event_mgt
METHOD:PUBLISH
BEGIN:VEVENT
UID:2857-409@isb.rlp.de
CLASS: PUBLIC
SUMMARY:Übergabe Förderbescheid DigitalPakt Schule an Verbandsgemeinde Lang
 enlonsheim-Stromberg
DESCRIPTION:Übergabe eines Förderbescheides für Mittel aus dem DigitalPakt 
 Schule an die Verbandsgemeinde Langenlonsheim-Stromberg durch Bildungsstaat
 ssekretärin Bettina Brück und Dr. Kathrin Mertes, Projektmanagerin DigitalP
 akt Schule der ISB, an den Beigeordneten der Verbandsgemeinde Langenlonshei
 m-Stromberg, Dr. Jochen Coutandin, und den VG-Bürgermeister Michael Cyfka.\
 n\nWir bitten um Anmeldung unter presse@isb.rlp.de. Bitte beachten Sie währ
 end des Termins die notwendigen Hygiene- und Abstandsregeln.
DTSTAMP:20211027T061206Z
DTSTART:20211029T063000Z
END:VEVENT
END:VCALENDAR
