BEGIN:VCALENDAR
VERSION:2.0
PRODID:https://github.com/derhansen/sf_event_mgt
METHOD:PUBLISH
BEGIN:VEVENT
UID:2814-409@isb.rlp.de
CLASS: PUBLIC
SUMMARY:Übergabe Förderbescheid DigitalPakt Schule an Stadt Pirmasens
DESCRIPTION:Übergabe eines Förderbescheides für Mittel aus dem DigitalPakt 
 Schule an die Stadt Pirmasens durch Bildungsministerin Dr. Stefanie Hubig u
 nd ISB-Vorstandssprecher Ulrich Dexheimer.\n\nWir bitten um Anmeldung unter
  presse@isb.rlp.de. Bitte beachten Sie während des Termins die notwendigen 
 Hygiene- und Abstandsregeln.
DTSTAMP:20210128T091932Z
DTSTART:20210222T090000Z
END:VEVENT
END:VCALENDAR
