BEGIN:VCALENDAR
VERSION:2.0
PRODID:https://github.com/derhansen/sf_event_mgt
METHOD:PUBLISH
BEGIN:VEVENT
UID:2816-409@isb.rlp.de
CLASS: PUBLIC
SUMMARY:Übergabe Förderbescheid DigitalPakt Schule an Stadt Koblenz
DESCRIPTION:Übergabe eines Förderbescheides für Mittel aus dem DigitalPakt 
 Schule an die Stadt Pirmasens durch Bildungsministerin Dr. Stefanie Hubig u
 nd ISB-Vorstandssprecher Ulrich Dexheimer.\n\nWir bitten um Anmeldung unter
  presse@isb.rlp.de. Bitte beachten Sie während des Termins die notwendigen 
 Hygiene- und Abstandsregeln.
DTSTAMP:20210129T110549Z
DTSTART:20210305T090000Z
END:VEVENT
END:VCALENDAR
