BEGIN:VCALENDAR
VERSION:2.0
PRODID:https://github.com/derhansen/sf_event_mgt
METHOD:PUBLISH
BEGIN:VEVENT
UID:2944-409@isb.rlp.de
CLASS: PUBLIC
SUMMARY:Übergabe Förderbescheid DigitalPakt Schule an Schulstiftung Calvari
 enberg
DESCRIPTION:Übergabe eines Förderbescheides für Mittel aus dem DigitalPakt 
 Schule an die Schulstiftung Calvarienberg durch Bildungsministerin Dr. Stef
 anie Hubig und ISB-Vorstandssprecher Ulrich Dexheimer.  Wir bitten um Anmel
 dung unter presse@isb.rlp.de. Bitte beachten Sie während des Termins die no
 twendigen Hygiene- und Abstandsregeln.
DTSTAMP:20220222T112742Z
DTSTART:20220328T073000Z
END:VEVENT
END:VCALENDAR
