BEGIN:VCALENDAR
VERSION:2.0
PRODID:https://github.com/derhansen/sf_event_mgt
METHOD:PUBLISH
BEGIN:VEVENT
UID:1363-409@isb.rlp.de
CLASS: PUBLIC
SUMMARY:Übergabe Förderbescheid an WB Wohnraum Mainz GmbH & Co. KG
DESCRIPTION:Übergabe eines Förderbescheides an die WB Wohnraum Mainz GmbH &
  Co. KG durch Finanzministerin Doris Ahnen und Dr. Ulrich Link für den Umba
 u und die Modernisierung mit 42 Wohnungen und einem Wohncafé sowie einem Ne
 ubau mit 24 Wohnungen.
DTSTAMP:20180109T072331Z
DTSTART:20180129T123000Z
END:VEVENT
END:VCALENDAR
