BEGIN:VCALENDAR
VERSION:2.0
PRODID:https://github.com/derhansen/sf_event_mgt
METHOD:PUBLISH
BEGIN:VEVENT
UID:3147-141@isb.rlp.de
CLASS: PUBLIC
SUMMARY:SUCCESS Preisverleihung 2023
DESCRIPTION:Für das Wachstum und die Wettbewerbsfähigkeit der Unternehmen i
 m Land sind neue Verfahren, Produkte und Dienstleistungen unumgänglich.  Da
 her zeichnet die Investitions- und Strukturbank Rheinland-Pfalz (ISB) in Zu
 sammenarbeit mit dem rheinland-pfälzischen Ministerium für Wirtschaft, Verk
 ehr, Landwirtschaft und Weinbau erneut kleine und mittelständische Unterneh
 men, die mit innovativen und technologieorientierten Produkten und Verfahre
 n bereits erste Erfolge am Markt erzielen konnten, mit der Technologieprämi
 e „SUCCESS - Vorsprung durch Innovation“ aus. Die diejährige Sonderprämie w
 ird zum Thema „Wissens- und Technologietransfer – Erfolgreiche Kooperatione
 n zwischen Unternehmen und Forschungseinrichtungen" verliehen.  Die Preisve
 rleihung findet am 9. Oktober 2023 in Mainz statt.\n\nMelden Sie sich jetzt
  hier zur Preisverleihung an und lernen Sie die diesjährigen prämierten Unt
 ernehmen vor Ort kennen!\n\nWeitere Informationen zum Wettbewerb finden Sie
  unter https://success-rlp.de/
LOCATION:Investitions- und Strukturbank RLP (ISB)
DTSTAMP:20230915T110711Z
DTSTART:20231009T160000Z
END:VEVENT
END:VCALENDAR
