BEGIN:VCALENDAR
VERSION:2.0
PRODID:https://github.com/derhansen/sf_event_mgt
METHOD:PUBLISH
BEGIN:VEVENT
UID:1411-141@isb.rlp.de
CLASS: PUBLIC
SUMMARY:Steuerberatersprechtag IHK-Regionalgeschäftsstelle Simmern/Hunsrück
DESCRIPTION:Im Vorfeld einer Existenzgründung tauchen viele verschiedene Fr
 agen auf, die genau betrachtet werden sollten. Hierzu zählt der Bereich der
  Steuern.Gemeinsam mit der Steuerberaterkammer Rheinland-Pfalz bietet das S
 tarterzentrum der IHK-Regionalgeschäftsstelle Simmern Steuerberatersprechta
 ge für Existenzgründer an. Interessenten können ein kurzes Gespräch von max
 imal 45 Minuten mit Steuerberater Manfred Schüller führen und sich über ste
 uerliche Fragen rund um die Existenzgründung informieren.Diese Erstinformat
 ion ist kostenlos. 
LOCATION:IHK Koblenz, Geschäftsstelle Simmern
DTSTAMP:20180116T111839Z
DTSTART:20181205T130000Z
DTEND:20181205T170000Z
END:VEVENT
END:VCALENDAR
