BEGIN:VCALENDAR
VERSION:2.0
PRODID:https://github.com/derhansen/sf_event_mgt
METHOD:PUBLISH
BEGIN:VEVENT
UID:3107-141@isb.rlp.de
CLASS: PUBLIC
SUMMARY:Startup Beach
DESCRIPTION:Einer der wesentlichen Erfolgsfaktoren einer gelungenen Unterne
 hmensgründung ist ein starkes Netzwerk. Gerade zu Beginn stehen Gründer*inn
 en vor einer oft unüberschaubaren Fülle von Fragen rund um die Selbstständi
 gkeit. Wo muss ich mein Unternehmen anmelden? Welche Qualifikationen und Na
 chweise muss ich vorlegen? Wer hilft mir bei der Erstellung des Businesspla
 ns? Und natürlich immer wieder die Frage nach dem nötigen Startkapital.  An
 tworten, Tipps und Expertenmeinungen gibt es in entspannter und inspirieren
 der Atmosphäre beim Startup Beach. Wo sonst finden Gründungsinteressierte u
 nd junge Unternehmer*innen ein derart geballtes Netzwerk an kompetenten Ans
 prechpartnern?\n\nGemeinsam mit der Handwerkskammer Koblenz und der Startup
  League organisiert die Industrie- und Handelskammer Koblenz die zweite Auf
 lage des beliebten Startup-Events am Mittwoch, 14. Juni 2023, ab 17.30 Uhr,
  Stattstrand Koblenz, Universitätsstraße in 56072 Koblenz.\n\nNeben Experte
 ngesprächen zu Gründungsthemen wird es eine Talkrunde mit erfolgreichen Sta
 rtups der Region geben, die Mut und Lust machen wollen auf das Abenteuer Se
 lbstständigkeit. Und natürlich wird auch gemeinsam gegessen, gefeiert und g
 elacht. Bei entsprechendem Wetter bis zum Sonnenuntergang und mit dem guten
  Gefühl, dem Ziel einer erfolgreichen Unternehmensgründung ein Stück näher 
 gekommen zu sein.
LOCATION:Stattstrand Koblenz
DTSTAMP:20230510T075956Z
DTSTART:20230614T153000Z
END:VEVENT
END:VCALENDAR
