BEGIN:VCALENDAR
VERSION:2.0
PRODID:https://github.com/derhansen/sf_event_mgt
METHOD:PUBLISH
BEGIN:VEVENT
UID:1580-141@isb.rlp.de
CLASS: PUBLIC
SUMMARY:START: „Kompakter Check-Up für Gründerinnen/Unternehmerinnen“
DESCRIPTION: Das Projekt richtet sich an Frauen, die den Weg der Gründung b
 ereits hinter sich haben und ihr Geschäftskonzept in die Tat umgesetzt habe
 n. Die Teilnehmerinnen werden in dieser Modulreihe bei dem Prozess der „Sel
 bstreflektion“ qualifiziert betreut und beraten.\n\nWeitere Informationen f
 inden Sie hier.
LOCATION:bic Business+Innovation Center Kaiserslautern GmbH
DTSTAMP:20180831T112137Z
DTSTART:20180912T150000Z
DTEND:20180912T180000Z
END:VEVENT
END:VCALENDAR
