BEGIN:VCALENDAR
VERSION:2.0
PRODID:https://github.com/derhansen/sf_event_mgt
METHOD:PUBLISH
BEGIN:VEVENT
UID:2391-141@isb.rlp.de
CLASS: PUBLIC
SUMMARY:Sprechtag des Mittelstandslotsen für Unternehmer
DESCRIPTION: Das rheinland-pfälzische Wirtschaftsministerium bietet klein- 
 und mittelständischen Unternehmen in Rheinland-Pfalz auch im Januar wieder 
 eine kostenfreie Beratung an. Rat bei Liquiditätsproblemen oder anderen Sch
 ieflagen in Unternehmen können ebenso Thema sein wie das Vorbereiten eines 
 Bankengespräches, der Umgang mit Behörden oder eine Begleitung in der unter
 nehmerischen Startphase. Prof. Dr. Manfred Becker, Mittelstandslotse der La
 ndesregierung, steht Unternehmerinnen und Unternehmern nach Anmeldung kompe
 tent zur Seite. \n\nDer Mittelstandslotse ist Ansprechpartner für alle klei
 n- und mittelständischen Unternehmen aus Rheinland-Pfalz. Er betrachtet Unt
 ernehmen ganzheitlich und hilft, Ursachen für Probleme zu ermitteln. Er nim
 mt sich Zeit und besucht auf Wunsch auch Firmen, um die Verhältnisse besser
  einschätzen zu können. Aufgrund seiner langjährigen praktischen Wirtschaft
 serfahrung in mehreren Branchen entwickelt der Mittelstandslotse gemeinsam 
 mit der Unternehmensleitung der jeweiligen Situation angepasste Lösungswege
 . Der Mittelstandslotse begleitet jedes Unternehmen so lange, bis beide Sei
 ten der Meinung sind, „loslassen“ zu können.Die Beratung ist kostenfrei.Bit
 te melden Sie sich vorab bei der Stabsstelle Mittelstandslotse im Ministeri
 um für Wirtschaft, Verkehr, Landwirtschaft und Weinbau unter Telefon 06131/
 16-5652 oder per E-Mail an mittelstandslotse@mwvlw.rlp.de. 
LOCATION:Ministerium für Wirtschaft, Verkehr, Landwirtschaft und Weinbau
DTSTAMP:20190125T101926Z
DTSTART:20190130T090000Z
DTEND:20190130T150000Z
END:VEVENT
END:VCALENDAR
