BEGIN:VCALENDAR
VERSION:2.0
PRODID:https://github.com/derhansen/sf_event_mgt
METHOD:PUBLISH
BEGIN:VEVENT
UID:2625-141@isb.rlp.de
CLASS: PUBLIC
SUMMARY:Sprechtag des Mittelstandslotsen für Unternehmer
DESCRIPTION:Das rheinland-pfälzische Wirtschaftsministerium bietet klein- u
 nd mittelständischen Unternehmen in Rheinland-Pfalz auch im Januar wieder e
 ine kostenfreie Beratung an. Rat bei Liquiditätsproblemen oder anderen Schi
 eflagen in Unternehmen können ebenso Thema sein wie das Vorbereiten eines B
 ankengespräches, der Umgang mit Behörden oder eine Begleitung in der untern
 ehmerischen Startphase. Prof. Dr. Manfred Becker, Mittelstandslotse der Lan
 desregierung, steht Unternehmerinnen und Unternehmern nach Anmeldung kompet
 ent zur Seite.\n\nDer Mittelstandslotse ist Ansprechpartner für alle klein-
  und mittelständischen Unternehmen aus Rheinland-Pfalz. Er betrachtet Unter
 nehmen ganzheitlich und hilft, Ursachen für Probleme zu ermitteln. Er nimmt
  sich Zeit und besucht auf Wunsch auch Firmen, um die Verhältnisse besser e
 inschätzen zu können. Auf Grundlage seiner langjährigen praktischen Wirtsch
 aftserfahrung in mehreren Branchen entwickelt der Mittelstandslotse gemeins
 am mit der Unternehmensleitung der jeweiligen Situation angepasste Lösungsw
 ege. Der Mittelstandslotse begleitet jedes Unternehmen so lange, bis beide 
 Seiten der Meinung sind, „loslassen“ zu können.  Die Beratung ist kostenfre
 i.  Bitte melden Sie sich vorab bei der Stabsstelle Mittelstandslotse im Mi
 nisterium für Wirtschaft, Verkehr, Landwirtschaft und Weinbau unter Telefon
  06131/16-5652 oder per E-Mail an mittelstandslotse@mwvlw.rlp.de.
LOCATION:Ministerium für Wirtschaft, Verkehr, Landwirtschaft und Weinbau
DTSTAMP:20200124T131525Z
DTSTART:20200129T090000Z
DTEND:20200129T150000Z
END:VEVENT
END:VCALENDAR
