BEGIN:VCALENDAR
VERSION:2.0
PRODID:https://github.com/derhansen/sf_event_mgt
METHOD:PUBLISH
BEGIN:VEVENT
UID:2837-141@isb.rlp.de
CLASS: PUBLIC
SUMMARY:SEO-Sprechtage
DESCRIPTION: Sind Sie mit der Besucherzahl Ihrer Unternehmenswebsite oder I
 hres Online-Shops zufrieden? Oder möchten Sie diese gerne steigern? Dann ko
 mmen Sie kaum an dem Thema Suchmaschinenoptimierung (SEO) vorbei.\n\nDer ko
 stenfreie SEO-Sprechtag unterstützt Sie in der Planung und Umsetzung Ihrer 
 Suchmaschinenoptimierung. In einem einstündigen Einzelgespräch beantwortet 
 ein Fachmann Ihre individuellen Fragen und zeigt Wege auf, wie Sie die Auff
 indbarkeit Ihrer Website steigern können.\n\nDer Sprechtag richtet sich an 
 Gründer, Unternehmer sowie Marketingverantwortliche, die den Umsatz Ihres O
 nline-Shops steigern oder online mehr Leads generieren möchten.\n\nFür dies
 e Veranstaltung ist eine Anmeldung unter nebenstehender Kontaktadresse erfo
 rderlich. Bitte beachten Sie die Anmeldefrist des Veranstalters.
LOCATION:Industrie und Handelskammer für die Pfalz
DTSTAMP:20210329T060513Z
DTSTART:20210413T070000Z
END:VEVENT
END:VCALENDAR
