BEGIN:VCALENDAR
VERSION:2.0
PRODID:https://github.com/derhansen/sf_event_mgt
METHOD:PUBLISH
BEGIN:VEVENT
UID:1433-141@isb.rlp.de
CLASS: PUBLIC
SUMMARY:Rechtsanwaltssprechtage IHK-Regionalbüro Cochem-Zell
DESCRIPTION: Im Rahmen einer Existenzgründung, auch in Form der Unternehmen
 snachfolge, treten viele rechtliche Fragen auf. Hierzu wird ein Beratungsse
 rvice der Starterzentren angeboten.\n\nBei grundlegenden Fragen kann das St
 arterzentrum direkt Auskunft erteilen. Bei tiefer gehenden Fragen kann nur 
 noch ein Rechtsanwalt weiterhelfen.\n\nPartner der Starterzentren ist die R
 echtsanwaltskammer Koblenz, die es ermöglicht, Informationstage mit kompete
 nten Rechtsanwälten durchzuführen. Die Fragen können im Rahmen eines ca. 30
 -minütigen Gespräches zu den Bereichen Rechtsformwahl, Firmenrecht, gewerbl
 icher Rechtsschutz, Arbeitsrecht und zu Sozialversicherungsthemen besproche
 n werden.\n\nWeitere Informationen erhalten Sie hier. 
LOCATION:IHK Koblenz, Geschäftsstelle Cochem
DTSTAMP:20180116T142927Z
DTSTART:20180313T120000Z
DTEND:20180313T133000Z
END:VEVENT
END:VCALENDAR
