BEGIN:VCALENDAR
VERSION:2.0
PRODID:https://github.com/derhansen/sf_event_mgt
METHOD:PUBLISH
BEGIN:VEVENT
UID:1435-141@isb.rlp.de
CLASS: PUBLIC
SUMMARY:Rechtsanwaltssprechtage IHK-Regionalbüro Cochem-Zell
DESCRIPTION:Im Rahmen einer Existenzgründung, auch in Form der Unternehmens
 nachfolge, treten viele rechtliche Fragen auf. Hierzu wird ein Beratungsser
 vice der Starterzentren angeboten.\n\nBei grundlegenden Fragen kann das Sta
 rterzentrum direkt Auskunft erteilen. Bei tiefer gehenden Fragen kann nur n
 och ein Rechtsanwalt weiterhelfen.\n\nPartner der Starterzentren ist die Re
 chtsanwaltskammer Koblenz, die es ermöglicht, Informationstage mit kompeten
 ten Rechtsanwälten durchzuführen. Die Fragen können im Rahmen eines ca. 30-
 minütigen Gespräches zu den Bereichen Rechtsformwahl, Firmenrecht, gewerbli
 cher Rechtsschutz, Arbeitsrecht und zu Sozialversicherungsthemen besprochen
  werden.\n\nWeitere Informationen erhalten Sie hier.
LOCATION:IHK Koblenz, Geschäftsstelle Cochem
DTSTAMP:20180116T143049Z
DTSTART:20180904T110000Z
DTEND:20180904T123000Z
END:VEVENT
END:VCALENDAR
