BEGIN:VCALENDAR
VERSION:2.0
PRODID:https://github.com/derhansen/sf_event_mgt
METHOD:PUBLISH
BEGIN:VEVENT
UID:1423-141@isb.rlp.de
CLASS: PUBLIC
SUMMARY:Rechtsanwaltssprechtag IHK-Regionalgeschäftsstelle Neuwied
DESCRIPTION: Im Rahmen einer Existenzgründung, auch in Form der Unternehmen
 snachfolge, treten viele rechtliche Fragen auf. Hierzu wird ein Beratungsse
 rvice der Starterzentren, zu dem auch die Regionalgeschäftsstelle Neuwied z
 ählt, angeboten. \n\nBei grundlegenden Fragen kann das Starterzentrum direk
 t Auskunft erteilen. Bei tiefer gehenden Fragen kann nur noch ein Rechtsanw
 alt weiterhelfen.\n\nPartner der Starterzentren ist die Rechtsanwaltskammer
  Koblenz, die es ermöglicht, Informationstage mit kompetenten Rechtsanwälte
 n durchzuführen. Die Fragen können im Rahmen eines ca. 30-minütigen Gespräc
 hes zu den Bereichen Rechtsformwahl, Firmenrecht, gewerblicher Rechtsschutz
 , Arbeitsrecht und zu Sozialversicherungsthemen besprochen werden.
LOCATION:IHK Koblenz, Geschäftsstelle Neuwied
DTSTAMP:20180116T140822Z
DTSTART:20180201T130000Z
DTEND:20180201T150000Z
END:VEVENT
END:VCALENDAR
