BEGIN:VCALENDAR
VERSION:2.0
PRODID:https://github.com/derhansen/sf_event_mgt
METHOD:PUBLISH
BEGIN:VEVENT
UID:1428-141@isb.rlp.de
CLASS: PUBLIC
SUMMARY:Rechtsanwaltssprechtag IHK-Regionalgeschäftsstelle Neuwied
DESCRIPTION:Im Rahmen einer Existenzgründung, auch in Form der Unternehmens
 nachfolge, treten viele rechtliche Fragen auf. Hierzu wird ein Beratungsser
 vice der Starterzentren, zu dem auch die Regionalgeschäftsstelle Neuwied zä
 hlt, angeboten. \n\nBei grundlegenden Fragen kann das Starterzentrum direkt
  Auskunft erteilen. Bei tiefer gehenden Fragen kann nur noch ein Rechtsanwa
 lt weiterhelfen.\n\nPartner der Starterzentren ist die Rechtsanwaltskammer 
 Koblenz, die es ermöglicht, Informationstage mit kompetenten Rechtsanwälten
  durchzuführen. Die Fragen können im Rahmen eines ca. 30-minütigen Gespräch
 es zu den Bereichen Rechtsformwahl, Firmenrecht, gewerblicher Rechtsschutz,
  Arbeitsrecht und zu Sozialversicherungsthemen besprochen werden.
LOCATION:IHK Koblenz, Geschäftsstelle Neuwied
DTSTAMP:20180116T141024Z
DTSTART:20181213T130000Z
DTEND:20181213T150000Z
END:VEVENT
END:VCALENDAR
