BEGIN:VCALENDAR
VERSION:2.0
PRODID:https://github.com/derhansen/sf_event_mgt
METHOD:PUBLISH
BEGIN:VEVENT
UID:2691-141@isb.rlp.de
CLASS: PUBLIC
SUMMARY:Online-Veranstaltung zur neuen EFRE-Förderperiode 2021-2027
DESCRIPTION:Am 29. April 2020, 14.00 Uhr findet eine Online-Veranstaltung z
 ur Einbindung der Öffentlichkeit für die Planung zur neuen EFRE-Förderperio
 de statt. Folgende Themen sollen im Rahmen der Online-Veranstaltung behande
 lt werden:\n\n 	Die Rahmenbedingungen der neuen EFRE-Förderperiode 2021-202
 7 	Vorstellung der wesentlichen Herausforderungen – Ergebnisse der sozioöko
 nomischen- und der SWOT-Analyse 	Austausch zum Politischen Ziel 1: Ein inte
 lligenteres Europa durch die Förderung eines innovativen und intelligenten 
 wirtschaftlichen Wandels 	Austausch zum Politischen Ziel 2: ein grüneres, C
 O2-armes Europa durch Förderung von sauberen Energien und einer fairen Ener
 giewende, von grünen und blauen Investitionen, der Kreislaufwirtschaft, der
  Anpassung an den Klimawandel, der Risikoprävention und des Risikomanagemen
 ts \n\nIhre Anmeldung richten Sie bitte bis spätestens 27.04.2020 an Frau C
 hristiana Blumers (christiana.blumers@mwvlw.rlp.de)\n\nAm 28.04.2020 wird I
 hnen der Zugangslink per E-Mail zugeleitet.
DTSTAMP:20200427T152151Z
DTSTART:20200429T120000Z
END:VEVENT
END:VCALENDAR
