BEGIN:VCALENDAR
VERSION:2.0
PRODID:https://github.com/derhansen/sf_event_mgt
METHOD:PUBLISH
BEGIN:VEVENT
UID:2983-141@isb.rlp.de
CLASS: PUBLIC
SUMMARY:nachhaltig.innovativ - Mittelstand trifft Nachhaltigkeit
DESCRIPTION:Nachhaltigkeit ist eines der zentralen Themen der Gegenwart und
  wird auch für den rheinland-pfälzischen Mittelstand immer bedeutender. Doc
 h nur wenige Unternehmen haben bislang konkret nachhaltige Ziele umgesetzt.
  Denn leichter gesagt, als getan. Wie können also KMU ganz konkret nachhalt
 ige Aspekte im eigenen Unternehmen umsetzen? Welche Mittel und Wege gibt es
 ?\n\nÜber die Vielfalt und Möglichkeiten von Nachhaltigkeit in mittelständi
 schen Unternehmen informiert die Veranstaltungsreihe „nachhaltig.innovativ 
 - Mittelstand trifft Nachhaltigkeit“, die von der Investitions- und Struktu
 rbank Rheinland-Pfalz (ISB) und den Sparkassen in Rheinland-Pfalz in Kooper
 ation mit dem Ministerium für Wirtschaft, Verkehr, Landwirtschaft und Weinb
 au Rheinland-Pfalz ins Leben gerufen wurde. In einem kompakten Format von v
 ier Workshops und interessanten Best-Practice-Beispielen erfahren Sie, waru
 m es sich für Unternehmen lohnt, in nachhaltige Projekte zu investieren.\n\
 nDie Veranstaltung ist kostenlos und findet in Kooperation mit der Sparkass
 e Kaiserslautern in der Kammgarn in Kaiserslautern statt.\n\nHier können Si
 e sich anmelden!\n\nWir freuen uns auf Ihr Kommen!
LOCATION:Kammgarn GmbH
DTSTAMP:20220627T165737Z
DTSTART:20220711T150000Z
DTEND:20220711T180000Z
END:VEVENT
END:VCALENDAR
