BEGIN:VCALENDAR
VERSION:2.0
PRODID:https://github.com/derhansen/sf_event_mgt
METHOD:PUBLISH
BEGIN:VEVENT
UID:2523-141@isb.rlp.de
CLASS: PUBLIC
SUMMARY:Modernisieren mit Rabatt: ISB-Beratertag zur Wohnraumförderung
DESCRIPTION:Neue Fenster? Neue Heizung? Bad ohne Barrieren? Oder alles zusa
 mmen? Unter dem Motto „Modernisieren mit Rabatt“ berät die Investitions- un
 d Strukturbank Rheinland-Pfalz (ISB) am 2. Dezember 2020 umfassend, kostenf
 rei und digital zu den Modernisierungsprogrammen des Landes. Rheinland-Pfäl
 zerinnen und -Pfälzer, die eine selbst genutzte oder vermietete Immobilie m
 odernisieren wollen, können von der ISB zinsgünstige Nachrangdarlehen erhal
 ten und zahlen bis zu 20 Prozent weniger zurück.\n\nAufgrund der derzeitige
 n Lage findet der Beratertag per Video oder per Telefon statt. Eine Anmeldu
 ng unter der Telefonnummer 06131 6172-1991 oder der E-Mailadresse wohnraum@
 isb.rlp.de ist in jedem Fall erforderlich. Weitere Informationen zum Modern
 isierungsprogramm gibt es unter www.modernisieren-mit-rabatt.de.
DTSTAMP:20201124T161355Z
DTSTART:20201201T230000Z
END:VEVENT
END:VCALENDAR
