BEGIN:VCALENDAR
VERSION:2.0
PRODID:https://github.com/derhansen/sf_event_mgt
METHOD:PUBLISH
BEGIN:VEVENT
UID:2510-141@isb.rlp.de
CLASS: PUBLIC
SUMMARY:Lokale 5G Campusnetze – eigener Mobilfunk für Institutionen
DESCRIPTION:Erstmals in Deutschland und Europa wird durch die nationale Reg
 ulierungsbehörde für Telekommunikation, die Bundesnetzagentur, der Aufbau e
 igener 5G-Campusnetze oder sogenannter Non-Public-Networks im Mobilfunk erm
 öglicht. Unabhängig von den Netzen bundesweiter Mobilfunknetzbetreiber hat 
 die Bundesnetzagentur für den Aufbau dieser institutionellen 5G-Netze Frequ
 enzspektrum im Bereich 3,7 bis 3,8 GHz reserviert. Diese können ab Herbst 2
 019 auf Antrag bei der Bundesnetzagentur zugeteilt werden.\n\nAm 17. Oktobe
 r 2019 informieren das Ministerium für Wirtschaft, Verkehr, Landwirtschaft 
 und Weinbau Rheinland-Pfalz in Kooperation mit der Industrie- und Handelska
 mmer für die Pfalz über den neuen 5G Mobilfunk, das Antragsverfahren zur Fr
 equenzzuteilung bei der Bundesnetzagentur sowie am Beispiel der BASF SE übe
 r neue Anwendungen und industrielle Nutzungsmöglichkeiten von 5G im Rahmen 
 des Aufbaus eines Campusnetzes. Zielgruppe sind etwa die Industrieunternehm
 en, der Mittelstand und landwirtschaftliche Betriebe.\n\n\n\n
LOCATION:bic Business+Innovation Center Kaiserslautern GmbH
DTSTAMP:20190814T142859Z
DTSTART:20191017T140000Z
DTEND:20191017T170000Z
END:VEVENT
END:VCALENDAR
