BEGIN:VCALENDAR
VERSION:2.0
PRODID:https://github.com/derhansen/sf_event_mgt
METHOD:PUBLISH
BEGIN:VEVENT
UID:1266-141@isb.rlp.de
CLASS: PUBLIC
SUMMARY:Lebenswerk erhalten - die eigene Nachfolge richtig gestalten
DESCRIPTION:Die Planung der eigenen Nachfolge ist oftmals eine der größten 
 Herausforderungen im Leben einer Unternehmerin bzw. eines Unternehmers. Lei
 der wird der damit einhergehende Zeitaufwand regelmäßig unterschätzt. \n\n\
 n\nEine gründliche und frühzeitige Vorbereitung der Betriebsübergabe ist – 
 wie die Erfahrung lehrt – ungeachtet der Unternehmensgröße jedoch besonders
  wichtig. Und sei es nur zur Suche nach einer geeigneten Nachfolgerin bzw. 
 einem geeigneten Nachfolger. \n\n\n\nSo treten in der Praxis regelmäßig Str
 ukturierungs- und Bewertungsprobleme auf, die es gilt, zum Wohle des erfolg
 reichen Fortbestands des eigenen ‚Lebenswerks‘ erfolgreich zu bewältigen.\n
 \n\n\nThemen:\n\n„Fallstricke der Unternehmensnachfolge“ – Was ist mein Unt
 ernehmen wert bzw. was gibt es bei der Übergabe zu beachten?\n\nReferent: S
 teffen Blaga, IHK Pfalz\n\n\n\n„Nachfolge aus der Sicht der Bank“ – Wie sic
 h die richtige Nachfolgestrategie positiv auf die Finanzierung und das Rati
 ng auswirkt. \n\nReferent: Folker Gratz, Investitions- und Strukturbank Rhe
 inland-Pfalz (ISB)\n\n\n\nWeitere Informationen erhalten Sie auf der Verans
 taltungsseite der IHK Pfalz.\n\n
LOCATION:IHK für die Pfalz - Starterzentrum Ludwigshafen-Vorderpfalz
DTSTAMP:20170619T073241Z
DTSTART:20170621T140000Z
DTEND:20170621T170000Z
END:VEVENT
END:VCALENDAR
