BEGIN:VCALENDAR
VERSION:2.0
PRODID:https://github.com/derhansen/sf_event_mgt
METHOD:PUBLISH
BEGIN:VEVENT
UID:1270-141@isb.rlp.de
CLASS: PUBLIC
SUMMARY:Kolumbien - Neuer Hoffnungs­träger in Südamerika
DESCRIPTION:Während andere Märkte in Südamerika schwächeln, hat sich die ko
 lumbianische Wirtschaft in den vergangenen Jahren gut behauptet. Die stark 
 verbesserte Sicherheitslage, eine wirtschaftsfreundliche Politik, die günst
 ige geografische Lage und der Reichtum an natürlichen Ressourcen haben das 
 Land zum neuen Hoffnungsträger in der Region gemacht. Kolumbien stellt mit 
 rund 49 Mio. Einwohnern einen bedeutenden Absatzmarkt dar und verzeichnet e
 ine anhaltende wirtschaftliche Dynamik, die dieses Jahr für ein Wachstum de
 s Bruttoinlandsprodukts um 2,7 Prozent sorgen soll. \n\n\n\nIn diesem Semin
 ar des Kompetenzzentrums Lateinamerika der IHK Pfalz in Zusammenarbeit mit 
 der Deutsch-Kolumbianischen Industrie- und Handelskammer und dem Lateinamer
 ika Verein e.V. erfahren Sie von ausgewiesenen Experten, welche Chancen sic
 h für deutsche Unternehmen auf dem kolumbianischen Markt bieten, wie man Pr
 odukte und Dienstleistungen dort erfolgreich vermarktet und welche rechtlic
 hen Rahmenbedingungen und Hürden zu beachten sind. 
LOCATION:IHK für die Pfalz - Starterzentrum Ludwigshafen-Vorderpfalz
DTSTAMP:20170619T081331Z
DTSTART:20170627T120000Z
DTEND:20170627T150000Z
END:VEVENT
END:VCALENDAR
