BEGIN:VCALENDAR
VERSION:2.0
PRODID:https://github.com/derhansen/sf_event_mgt
METHOD:PUBLISH
BEGIN:VEVENT
UID:2628-141@isb.rlp.de
CLASS: PUBLIC
SUMMARY:ABGESAGT: Kick-off "Venture-Capital-Fonds Rhein-Neckar (VC RN)"
DESCRIPTION:Auch die Investitions- und Strukturbank Rheinland-Pfalz (ISB) b
 eobachtet seit einigen Tagen die Ausbreitung des Corona-Virus und die damit
  zusammenhängenden Konsequenzen.\n\nUm Teilnehmende und Mitarbeitende nicht
  einem unnötigen Risiko auszusetzen, haben wir uns in Abstimmung mit unsere
 n Partnern dazu entschlossen, die für den 03. April 2020 geplante Veranstal
 tung Kick-off „Venture-Capital-Fonds Rhein-Neckar (VC RN)” zu verschieben.\
 n\nWir haben uns diese Entscheidung nicht leicht gemacht, tragen aber als V
 eranstalter für die Gesundheit und die Sicherheit aller Beteiligten die Ver
 antwortung.\n\nWir gehen derzeit davon aus, dass wir zu einem Alternativter
 min einladen werden. Sobald dieser feststeht, werden wir Sie hierüber infor
 mieren.\n\nWir danken herzlich für Ihr Verständnis.
LOCATION:MAFINEX-Technologiezentrum
DTSTAMP:20200316T143935Z
DTSTART:20200403T080000Z
END:VEVENT
END:VCALENDAR
