BEGIN:VCALENDAR
VERSION:2.0
PRODID:https://github.com/derhansen/sf_event_mgt
METHOD:PUBLISH
BEGIN:VEVENT
UID:3150-409@isb.rlp.de
CLASS: PUBLIC
SUMMARY:ISB-Pressekonferenz zum Jahresauftakt
DESCRIPTION:Pressekonferenz zum Jahresauftakt mit dem Verwaltungsratsvorsit
 zenden Dr. Stephan Weinberg und dem ISB-Vorstand
DTSTAMP:20231221T094305Z
DTSTART:20240215T100000Z
END:VEVENT
END:VCALENDAR
