BEGIN:VCALENDAR
VERSION:2.0
PRODID:https://github.com/derhansen/sf_event_mgt
METHOD:PUBLISH
BEGIN:VEVENT
UID:3412-141@isb.rlp.de
CLASS: PUBLIC
SUMMARY:ISB-Online-Beratungstag mit der Handwerkskammer Trier
DESCRIPTION:Der ISB-Online-Beratungstag richtet sich an Existenzgründer und
  Unternehmen mit Betriebsstätte in Rheinland-Pfalz, welche die Finanzierung
  ihres Vorhabens durch die Einbeziehung öffentlicher Mittel optimieren woll
 en. Beraten werden u.a. die Möglichkeiten der Einbindung öffentlicher Mitte
 l in die Finanzierungen aller Arten von Gründungsvorhaben; so z. B. auch Be
 triebsübernahmen, Franchise, Beteiligungen und Nebenerwerbsgründungen; sowi
 e alle Wachstums- und Festigungsinvestitionen bestehender rheinland-pfälzis
 cher Unternehmen.\n\nZur Anmeldung senden Sie bitte das hierfür vorgesehene
  Anmeldeformular vollständig ausgefüllt per Mail (vnickels@hwk-trier.de) an
  die HWK Trier. Es wird sich daraufhin ein Mitarbeiter der HWK Trier mit Ih
 nen in Verbindung setzen, um einen Beratungstermin per Telefon- oder Videok
 onferenz zu vereinbaren. \n\nFragen zur Anmeldung nimmt auch die HWK Trier 
 gerne telefonisch (0651 207 131) oder per Mail (vnickels@hwk-trier.de) entg
 egen.
DTSTAMP:20260421T080759Z
DTSTART:20260428T220000Z
DTEND:20260428T220000Z
END:VEVENT
END:VCALENDAR
