BEGIN:VCALENDAR
VERSION:2.0
PRODID:https://github.com/derhansen/sf_event_mgt
METHOD:PUBLISH
BEGIN:VEVENT
UID:3274-141@isb.rlp.de
CLASS: PUBLIC
SUMMARY:ISB-Beratungstag mit der Wirtschaftsförderung der Stadt Trier
DESCRIPTION:Der ISB-Beratungstag mit der Wirtschaftsförderung der Stadt Tri
 er und der Wirtschaftsförderung des Landkreis Trier-Saarburg richtet sich a
 n Existenzgründer und Unternehmen mit Betriebsstätte in Rheinland-Pfalz, we
 lche die Finanzierung ihres Vorhabens durch die Einbeziehung öffentlicher M
 ittel optimieren wollen. Beraten werden u.a. die Möglichkeiten der Einbindu
 ng öffentlicher Mittel in die Finanzierungen aller Arten von Gründungsvorha
 ben; so z. B. auch Betriebsübernahmen, Franchise, Beteiligungen und Nebener
 werbsgründungen; sowie alle Wachstums- und Festigungsinvestitionen bestehen
 der rheinland-pfälzischer Unternehmen.\n\nZur Anmeldung senden Sie bitte da
 s hierfür vorgesehene Anmeldeformular vollständig ausgefüllt per Mail info@
 wfg-trier-saarburg.de an die Wirtschaftsförderung Trier-Saarburg. Es wird s
 ich daraufhin ein Mitarbeitender mit Ihnen in Verbindung setzen um einen Be
 ratungstermin zu vereinbaren.\n\nWir behalten uns vor, dass ursprünglich al
 s Präsenztermine vereinbarte Gespräche kurzfristig nur als Telefon- oder Vi
 deokonferenz stattfinden. Sollte dies bei Ihrem Termin der Fall sein, erhal
 ten Sie rechtzeitig Bescheid.
LOCATION:Wirtschaftsförderung der Stadt Trier
DTSTAMP:20251023T062424Z
DTSTART:20251124T230000Z
END:VEVENT
END:VCALENDAR
