BEGIN:VCALENDAR
VERSION:2.0
PRODID:https://github.com/derhansen/sf_event_mgt
METHOD:PUBLISH
BEGIN:VEVENT
UID:3250-141@isb.rlp.de
CLASS: PUBLIC
SUMMARY:ISB-Beratungstag der Wirtschaftsförderung in Cochem-Zell
DESCRIPTION:Der ISB-Beratungstag richtet sich an Existenzgründer und Untern
 ehmen mit Betriebsstätte in Rheinland-Pfalz, welche die Finanzierung ihres 
 Vorhabens durch die Einbeziehung öffentlicher Mittel optimieren wollen. Ber
 aten werden u.a. die Möglichkeiten der Einbindung öffentlicher Mittel in di
 e Finanzierungen aller Arten von Gründungsvorhaben; so z. B. auch Betriebsü
 bernahmen, Franchise, Beteiligungen und Nebenerwerbsgründungen; sowie alle 
 Wachstums- und Festigungsinvestitionen bestehender rheinland-pfälzischer Un
 ternehmen.\n\nZur Anmeldung senden Sie bitte das hierfür vorgesehene Anmeld
 eformular vollständig ausgefüllt per Mail (falko.fischer@cochem-zell.de) an
  die Kreiswerke Cochem-Zell. Es wird sich daraufhin ein Mitarbeiter der Kre
 iswerke Cochem-Zell mit Ihnen in Verbindung setzen um einen Beratungstermin
  zu vereinbaren.\n\nWir behalten uns vor, dass ursprünglich als Präsenzterm
 ine vereinbarte Gespräche kurzfristig nur als Telefon- oder Videokonferenz 
 stattfinden. Sollte dies bei Ihrem Termin der Fall sein, erhalten Sie recht
 zeitig Bescheid.\n\nFragen zu Anmeldungen nehmen auch die Kreiswerke Cochem
 -Zell gerne telefonisch (02671 61-687) entgegen.
LOCATION:Kreiswerke Cochem-Zell
DTSTAMP:20240704T110156Z
DTSTART:20240827T220000Z
END:VEVENT
END:VCALENDAR
