BEGIN:VCALENDAR
VERSION:2.0
PRODID:https://github.com/derhansen/sf_event_mgt
METHOD:PUBLISH
BEGIN:VEVENT
UID:3355-141@isb.rlp.de
CLASS: PUBLIC
SUMMARY:ISB-Beratungstag der Wirtschaftsförderung im Kreis Birkenfeld
DESCRIPTION:Der ISB-Beratungstag richtet sich an Existenzgründer und Untern
 ehmen mit Betriebsstätte in Rheinland-Pfalz, welche die Finanzierung ihres 
 Vorhabens durch die Einbeziehung öffentlicher Mittel optimieren wollen. Ber
 aten werden u.a. die Möglichkeiten der Einbindung öffentlicher Mittel in di
 e Finanzierungen aller Arten von Gründungsvorhaben; so z. B. auch Betriebsü
 bernahmen, Franchise, Beteiligungen und Nebenerwerbsgründungen; sowie alle 
 Wachstums- und Festigungsinvestitionen bestehender rheinland-pfälzischer Un
 ternehmen.\n\nZur Anmeldung senden Sie bitte das hierfür vorgesehene Anmeld
 eformular vollständig ausgefüllt per Mail (info@wfg-bir.de) an die WFG Birk
 enfeld. Es wird sich daraufhin ein Mitarbeiter der Wirtschaftsförderungsges
 ellschaft mit Ihnen in Verbindung setzen um einen Beratungstermin zu verein
 baren. \n\nFragen zur Anmeldungen nimmt die WFG Birkenfeld gerne telefonisc
 h (06782 8674-903) oder per Mail (info@wfg-bir.de) entgegen. 
LOCATION:WFG BIR
DTSTAMP:20250902T115655Z
DTSTART:20250921T220000Z
END:VEVENT
END:VCALENDAR
