BEGIN:VCALENDAR
VERSION:2.0
PRODID:https://github.com/derhansen/sf_event_mgt
METHOD:PUBLISH
BEGIN:VEVENT
UID:2758-141@isb.rlp.de
CLASS: PUBLIC
SUMMARY:ISB-Beratertag der Wohnraumförderung
DESCRIPTION:Die Investitions- und Strukturbank Rheinland-Pfalz (ISB) inform
 iert auf ihrem Beratertag der Wohnraumförderung umfassend und kostenfrei zu
  ihren attraktiven Programmen rund um den Bau, den Kauf und die Modernisier
 ung von Wohnraum, die mit sehr günstigen Konditionen und Tilgungszuschüssen
  ausgestattet sind. Auch, wer eine Bewohnergenossenschaft gründen oder dara
 n Anteile erwerben möchte, sich für Bauprojekte in Orts- und Stadtkernen od
 er für Maßnahmen für  Wohngruppen und Wohngemeinschaften interessiert, kann
  sich zu Fördermöglichkeiten und Antragstellung beraten lassen – unabhängig
  davon, ob er die Immobilie selbst nutzt oder vermietet.\n\nZur Anmeldung s
 enden Sie bitte das hierfür vorgesehene Anmeldeformular vollständig ausgefü
 llt per Mail (wohnraum@isb.rlp.de) oder Fax (06131 6172-1385) an die ISB. E
 s wird sich daraufhin ein Mitarbeiter der Kundenbetreuung und Beratung der 
 ISB mit Ihnen in Verbindung setzen um einen Beratungstermin zu vereinbaren.
 \n\nUm eine optimale individuelle Beratung zu gewährleisten, sollten möglic
 hst Unterlagen zum Vorhaben, wie beispielsweise Baupläne oder Kostenschätzu
 ngen, mitgebracht oder bereits vorab eingereicht werden.\n\nFragen zur Anme
 ldungen nimmt auch die Kundenbetreuung und Beratung der ISB gerne telefonis
 ch (06131 6172-1991) oder per Mail (wohnraum@isb.rlp.de) entgegen.  Aus geg
 ebenem Anlass werden die Beratungsgespräche nicht vor Ort, sondern als Tele
 fon- oder Videokonferenzen durchgeführt. 
DTSTAMP:20201207T155330Z
DTSTART:20210120T230000Z
END:VEVENT
END:VCALENDAR
