BEGIN:VCALENDAR
VERSION:2.0
PRODID:https://github.com/derhansen/sf_event_mgt
METHOD:PUBLISH
BEGIN:VEVENT
UID:1493-141@isb.rlp.de
CLASS: PUBLIC
SUMMARY:ISB-Beratertag
DESCRIPTION:Der ISB-Beratertag richtet sich an Existenzgründer und Unterneh
 men mit Betriebsstätte in Rheinland-Pfalz, welche die Finanzierung ihres Vo
 rhabens durch die Einbeziehung öffentlicher Mittel optimieren wollen. Berat
 en werden u.a. die Möglichkeiten der Einbindung öffentlicher Mittel in die 
 Finanzierungen aller Arten von Gründungsvorhaben; so z. B. auch Betriebsübe
 rnahmen, Franchise, Beteiligungen und Nebenerwerbsgründungen; sowie alle Wa
 chstums- und Festigungsinvestitionen bestehender rheinland-pfälzischer Unte
 rnehmen.\n\nZur Anmeldung senden Sie bitte das hierfür vorgesehene Anmeldef
 ormular vollständig ausgefüllt per Mail (christian.weidenbach@kreis-ahrweil
 er.de) oder Fax (02641 975-373) an die KV Ahrweiler. Es wird sich daraufhin
  ein Mitarbeiter der KV Ahrweiler mit Ihnen in Verbindung setzen um einen B
 eratungstermin zu vereinbaren. \n\nFragen zur Anmeldungen nimmt auch die KV
  Ahrweiler gerne telefonisch (02641 975-373) oder per Mail (christian.weide
 nbach@kreis-ahrweiler.de) entgegen. 
LOCATION:Kreisverwaltung Ahrweiler
DTSTAMP:20180427T053324Z
DTSTART:20180529T220000Z
END:VEVENT
END:VCALENDAR
