BEGIN:VCALENDAR
VERSION:2.0
PRODID:https://github.com/derhansen/sf_event_mgt
METHOD:PUBLISH
BEGIN:VEVENT
UID:2500-141@isb.rlp.de
CLASS: PUBLIC
SUMMARY:Informationsveranstaltung zur Wirtschaftsreise "STEP NYC - Startup 
 und Entrepreneur Programm
DESCRIPTION:Liebe Startups,  nach einer gelungenen Teilnahme von 11 rheinla
 nd-pfälzischen Unternehmen am STEP New York – Startup und Entrepreneur Prog
 ramm im letzten Jahr, möchten wir diese Erfolgsstory 2019 fortsetzen. Vom 0
 3. bis 09. November 2019 bieten wir rheinland-pfälzischen Gründerinnen und 
 Gründern die Möglichkeit am 5-tägigen Startup Programm teilzunehmen. Dies s
 oll der rheinland-pfälzischen Gründerszene auch international eine Plattfor
 m zur Netzwerkbildung, Präsentation und Kapitalfindung schaffen. Das Progra
 mm STEP NYC wird Ihnen im Komplettpaket angeboten, wobei Sie auch die Mögli
 chkeit haben Ihre Anreise und Übernachtungen individuell zu buchen. Schwerp
 unkte der Reise sind, Einblicke in rechtliche, interkulturelle und marktstr
 ategische Gepflogenheiten zu bekommen und wertvolle Kontakte zu Netzwerken,
  etablierten Firmen, Forschungsinstituten, Mentoren, Investoren und potenzi
 ellen Kunden in der deutsch-amerikanischen Geschäftswelt herzustellen. Am E
 nde dieses ‘Bootcamps‘ sind Sie auf ideale Weise vorbereitet, sich für die 
 Teilnahme am Programm des German Accelerator (3-6 Monate, www.germanacceler
 ator.com) zu bewerben. Die Kosten für STEP NYC (3.000 € pro Teilnehmer) wer
 den bei dieser Reise im Rahmen der Außenwirtschaftsförderung vom Land Rhein
 land-Pfalz getragen. Sie zahlen nur Ihre Reisekosten.  Warum New York? Mit 
 18,9 Mio. Einwohnern ist die Metropolregion New York einer der bedeutendste
 n Wirtschaftsräume und Handelsplätze der Welt, Sitz vieler internationaler 
 Konzerne und Organisationen wie der Vereinten Nationen sowie wichtiger See-
  und Binnenhafen an der amerikanischen Ostküste und dem Hudson. Start-ups s
 ind hier herzlich willkommen. Zudem stehen jede Menge Investoren zur Verfüg
 ung, die stets auf der Suche nach Anlagemöglichkeiten sind.  Nutzen Sie die
  umfangreiche Unterstützung der Außenwirtschaftsförderung des Landes für Ih
 ren erfolgreichen Start auf dem nordamerikanischen Markt. Alle wichtigen In
 formationen finden Sie im Anmeldeflyer anbei oder unter: https://www.rlp-in
 ternational.de/auslandsmaerkte-entdecken/fachseminar-step-new-york/  
LOCATION:Gutenberg Digital Hub
DTSTAMP:20190723T065807Z
DTSTART:20190820T150000Z
END:VEVENT
END:VCALENDAR
