BEGIN:VCALENDAR
VERSION:2.0
PRODID:https://github.com/derhansen/sf_event_mgt
METHOD:PUBLISH
BEGIN:VEVENT
UID:1598-141@isb.rlp.de
CLASS: PUBLIC
SUMMARY:Informationsveranstaltung "Barrierefrei Bauen und Wohnen"
DESCRIPTION: Um über die Barrierefreiheit, Wohnraumanpassung und die besteh
 enden Förderprogramme und Finanzierungsmöglichkeiten zu informieren, findet
  am Dienstag, den 16. Oktober 2018 um 17.00 Uhr im Ratssaal der Verbandsgem
 eindeverwaltung Wörrstadt eine Informationsveranstaltung statt.\n\nDie regi
 onale Beraterin der Beratungsstelle „Barrierefrei Bauen und Wohnen“, Innena
 rchitektin, Isolde Scheick-Kröhl, wird über die unterschiedlichen Wege zum 
 Wohnen mit Barrierefreiheit informieren. Eingeladen sind daher all diejenig
 en, die ein Haus bauen, eine Immobilie erwerben oder ihre bisherige Wohnung
  modernisieren möchten, denn eine frühzeitige Planung der Barrierefreiheit 
 verursacht kaum Mehrkosten und macht nachträgliche, teure und aufwändige Um
 bauten meist überflüssig. Zudem werden bei der Informationsveranstaltung We
 ge aufgezeigt, wie eine barrierefreie Wohnumgebung, beispielsweise bei auft
 retenden körperlichen Einschränkungen, geschaffen werden kann.Im Anschluss 
 wird die Investitions- und Strukturbank Rheinland-Pfalz (ISB) über die Förd
 erprogramme und Förderkredite des Landes informieren, da das Land Maßnahmen
  für den altersgerechten Umbau von bestehenden Wohngebäuden/Wohnungen über 
 die ISB fördert. Wenn Sie sich mit der Frage auseinandersetzen, wie Sie für
  sich, eine barrierefreie Wohnumgebung schaffen können, würden wir uns freu
 en, Sie bei dieser Veranstaltung begrüßen zu dürfen.
LOCATION:Verbandsgemeinde Wörrstadt
DTSTAMP:20180928T095603Z
DTSTART:20181016T150000Z
END:VEVENT
END:VCALENDAR
