BEGIN:VCALENDAR
VERSION:2.0
PRODID:https://github.com/derhansen/sf_event_mgt
METHOD:PUBLISH
BEGIN:VEVENT
UID:3049-141@isb.rlp.de
CLASS: PUBLIC
SUMMARY:Infoabend für Existenzgründer
DESCRIPTION: Der Weg in die Selbstständigkeit ist mit Chancen, aber auch mi
 t Risiken verbunden. Um die Risiken zu minimieren, informiert die IHK Trier
  angehende Existenzgründer über grundlegende Dinge, die beim Schritt in die
  Selbstständigkeit auf sie zukommen. Der Informationsabend behandelt unter 
 anderem die Ermittlung des Kapitalbedarfs und Finanzierungsfragen unter Ber
 ücksichtigung öffentlicher Finanzierungshilfen, aber auch Fragen gewerberec
 htlicher Art, die Besteuerung des Unternehmens sowie Versicherungsfragen.  
 Die Veranstaltung vermittelt potenziellen Existenzgründern grundlegende Ers
 tinformationen. Für eine weitergehende Beratung wenden Sie sich bitte an ei
 nen Steuer- oder Unternehmensberater.  Eine Teilnahme ist nur nach vorherig
 er Anmeldung möglich. Das Entgelt beträgt 25 Euro pro Person.
LOCATION:IHK Trier, Bildungszentrum
DTSTAMP:20221222T064951Z
DTSTART:20230123T163000Z
END:VEVENT
END:VCALENDAR
