BEGIN:VCALENDAR
VERSION:2.0
PRODID:https://github.com/derhansen/sf_event_mgt
METHOD:PUBLISH
BEGIN:VEVENT
UID:2616-141@isb.rlp.de
CLASS: PUBLIC
SUMMARY:Info-Veranstaltung "Grundlagen für Existenzgründer"
DESCRIPTION:Den Mut bringen Sie mit, das Know-How bekommen Sie von uns. Mit
  der Informationsveranstaltung „Grundlagen der Existenzgründung“ unterstütz
 t die IHK Pfalz Gründerinnen und Gründer auf dem Weg in die unternehmerisch
 e Selbständigkeit. Die kostenfreie Veranstaltung ist branchenneutral und bi
 etet einen Einstieg in die grundlegenden Themen einer Unternehmensgründung.
  Das darin vermittelte Wissen bildet eine gute Grundlage für eine individue
 lle, persönliche Gründungsberatung durch die IHK Pfalz. Themen •    Fahrpla
 n der Gründung •    Geschäftsidee, Konzept, Businessplan •    Finanzplanung
  (Rentabilitäts- und Liquiditätsplan) •    Finanzierung und Förderprogramme
  •    Marketing •    Rechtsformen •    Steuern und Buchhaltung •    Versich
 erungen •    Gründen im Nebenerwerb\n\n Anmelden können Sie sich hier.
LOCATION:Industrie- und Handelskammer (IHK) für die Pfalz
DTSTAMP:20200124T105856Z
DTSTART:20200224T080000Z
END:VEVENT
END:VCALENDAR
