BEGIN:VCALENDAR
VERSION:2.0
PRODID:https://github.com/derhansen/sf_event_mgt
METHOD:PUBLISH
BEGIN:VEVENT
UID:1476-141@isb.rlp.de
CLASS: PUBLIC
SUMMARY:Impuls-Workshop "Agile Methoden für Gründerinnen und Unternehmerinn
 en"
DESCRIPTION: Gründungsparcours „Von der Gründerin zur Unternehmerin“\n\n„Mo
 dulreihe 1: „Kompakte Starthilfe für gründungsinteressierte Frauen“\n\nDies
 es Projekt wird vom Wirtschaftsministerium Landes Rheinland-Pfalz gefördert
 .\n\nVoraussetzung zur Teilnahme: Der Impuls-Workshop richtet sich an gründ
 ungsinteressierte Frauen in den unterschiedlichen Phasen der Selbstständigk
 eit bzw. geplanten Selbstständigkeit.\n\nAnmelden können Sie sich hier.
LOCATION:bic Business+Innovation Center Kaiserslautern GmbH
DTSTAMP:20180405T071528Z
DTSTART:20180418T150000Z
DTEND:20180418T180000Z
END:VEVENT
END:VCALENDAR
