BEGIN:VCALENDAR
VERSION:2.0
PRODID:https://github.com/derhansen/sf_event_mgt
METHOD:PUBLISH
BEGIN:VEVENT
UID:1498-141@isb.rlp.de
CLASS: PUBLIC
SUMMARY:Gründungsparcours "Von der Gründerin zur Unternehmerin"
DESCRIPTION:Gründungsparcours „Von der Gründerin zur Unternehmerin“\n\n„Mod
 ulreihe 1: „Kompakte Starthilfe für gründungsinteressierte Frauen“\n\nDiese
 s Projekt wird vom Wirtschaftsministerium Landes Rheinland-Pfalz gefördert.
 \n\nProgramm:\n\n05.06.2018, 09:00 Uhr - 15:00 Uhr"Human Centered" - der Ku
 nde und seine Bedürfnisse im Fokus\n\n07.05. – 28.09.2018CoachingIndividuel
 le Termine nach Absprache (2 Stunden pro Teilnehmerin)\n\nVoraussetzung zur
  Teilnahme: Das Projekt (Modulreihe 1) richtet sich an gründungsinteressier
 te Frauen in den unterschiedlichen Phasen der Selbstständigkeit bzw. geplan
 ten Selbstständigkeit.\n\nTeilnahmegebühr: 150,00 € inkl. MwSt. – einmalige
  Gebühr für die komplette Workshop-/Seminarreihe inkl. Coaching\n\nBei Inte
 resse nutzen Sie unsere kostenfreien Sprechzeiten mit Maria Beck (0631 – 68
 039 115) oder kommen Sie zum unverbindlichen Info-Termin am 16.04.2018, 17 
 – 18 Uhr.\n\nAnmelden können Sie sich hier.
LOCATION:bic Business+Innovation Center Kaiserslautern GmbH
DTSTAMP:20180430T105920Z
DTSTART:20180605T070000Z
DTEND:20180605T130000Z
END:VEVENT
END:VCALENDAR
