BEGIN:VCALENDAR
VERSION:2.0
PRODID:https://github.com/derhansen/sf_event_mgt
METHOD:PUBLISH
BEGIN:VEVENT
UID:1496-141@isb.rlp.de
CLASS: PUBLIC
SUMMARY:Gründungsparcours "Von der Gründerin zur Unternehmerin"
DESCRIPTION:Gründungsparcours „Von der Gründerin zur Unternehmerin“\n\n„Mod
 ulreihe 1: „Kompakte Starthilfe für gründungsinteressierte Frauen“\n\nDiese
 s Projekt wird vom Wirtschaftsministerium Landes Rheinland-Pfalz gefördert.
 \n\nProgramm:\n\n\n\n22.05.2018, 09:00 Uhr - 15:00 Uhr Juristische Themen f
 ür Gründerinnen \n\n07.05. – 28.09.2018CoachingIndividuelle Termine nach Ab
 sprache (2 Stunden pro Teilnehmerin)\n\nVoraussetzung zur Teilnahme: Das Pr
 ojekt (Modulreihe 1) richtet sich an gründungsinteressierte Frauen in den u
 nterschiedlichen Phasen der Selbstständigkeit bzw. geplanten Selbstständigk
 eit.\n\nTeilnahmegebühr: 150,00 € inkl. MwSt. – einmalige Gebühr für die ko
 mplette Workshop-/Seminarreihe inkl. Coaching\n\nBei Interesse nutzen Sie u
 nsere kostenfreien Sprechzeiten mit Maria Beck (0631 – 68039 115) oder komm
 en Sie zum unverbindlichen Info-Termin am 16.04.2018, 17 – 18 Uhr.\n\nAnmel
 den können Sie sich hier.
LOCATION:bic Business+Innovation Center Kaiserslautern GmbH
DTSTAMP:20180430T105748Z
DTSTART:20180522T070000Z
DTEND:20180522T130000Z
END:VEVENT
END:VCALENDAR
