BEGIN:VCALENDAR
VERSION:2.0
PRODID:https://github.com/derhansen/sf_event_mgt
METHOD:PUBLISH
BEGIN:VEVENT
UID:1495-141@isb.rlp.de
CLASS: PUBLIC
SUMMARY:Gründungsparcours "Von der Gründerin zur Unternehmerin"
DESCRIPTION:Gründungsparcours „Von der Gründerin zur Unternehmerin“\n\n„Mod
 ulreihe 1: „Kompakte Starthilfe für gründungsinteressierte Frauen“\n\nDiese
 s Projekt wird vom Wirtschaftsministerium Landes Rheinland-Pfalz gefördert.
 \n\nProgramm:\n\n\n\n08.05./09.05.2018, 09 – 15 UhrVon der Geschäftsidee zu
 m Unternehmensplan\n\n07.05. – 28.09.2018CoachingIndividuelle Termine nach 
 Absprache (2 Stunden pro Teilnehmerin)\n\nVoraussetzung zur Teilnahme: Das 
 Projekt (Modulreihe 1) richtet sich an gründungsinteressierte Frauen in den
  unterschiedlichen Phasen der Selbstständigkeit bzw. geplanten Selbstständi
 gkeit.\n\nTeilnahmegebühr: 150,00 € inkl. MwSt. – einmalige Gebühr für die 
 komplette Workshop-/Seminarreihe inkl. Coaching\n\nBei Interesse nutzen Sie
  unsere kostenfreien Sprechzeiten mit Maria Beck (0631 – 68039 115) oder ko
 mmen Sie zum unverbindlichen Info-Termin am 16.04.2018, 17 – 18 Uhr.\n\nAnm
 elden können Sie sich hier.
LOCATION:bic Business+Innovation Center Kaiserslautern GmbH
DTSTAMP:20180430T110018Z
DTSTART:20180508T070000Z
DTEND:20180509T130000Z
END:VEVENT
END:VCALENDAR
