BEGIN:VCALENDAR
VERSION:2.0
PRODID:https://github.com/derhansen/sf_event_mgt
METHOD:PUBLISH
BEGIN:VEVENT
UID:3357-141@isb.rlp.de
CLASS: PUBLIC
SUMMARY:Gründerinnenfest 2025 – SELBSTständig IST DIE FRAU
DESCRIPTION:Rund ein Drittel der Unternehmensgründungen in der Region Trier
  wird von Frauen getragen. Dabei mangelt es nicht an geschäftlich erfolgrei
 chen Ideen – Nachholbedarf gibt es hingegen teilweise weiterhin bei der ges
 ellschaftlichen Akzeptanz weiblichen Unternehmertums. Deshalb engagiert sic
 h die IHK Trier gemeinsam mit ihren Partnern in diesem Jahr wieder verstärk
 t für Gründerinnen, unter dem Motto „SELBSTständig IST DIE FRAU“.\n\nEine g
 ute Idee haben und dafür brennen – das ist der Grundstock für eine erfolgre
 iche Unternehmensgründung. Dabei bietet gerade die berufliche Selbständigke
 it ein hohes Maß an Flexibilität und an Gestaltungsmöglichkeiten. Je nach L
 ebensphase und Risikobereitschaft stehen verschiedene Varianten offen: Von 
 der Teilzeit- oder Nebenerwerbsgründung bis hin zum Vollzeit-Unternehmen. V
 on der Gründung eines neuen Unternehmens bis hin zur Unternehmensnachfolge.
 \n\nWichtig ist, die richtigen Schritte zu gehen und die notwendigen Inform
 ationen zu sammeln.\n\nDas Gründerinnenfest der IHK Trier soll hierbei Unte
 rstützung bieten, sich mit Expertinnen, Gründerinnen und erfahrenen Unterne
 hmerinnen auszutauschen.\n\nDie folgenden Akteure sind mit Informationsstän
 den vertreten: Sparkasse Trier, Volksbank Trier Eifel eG, Investitions- und
  Strukturbank RLP, Barmer, Gründungsbüro Trier, Gründerinnenstammtisch Trie
 r, Gründerinnenstammtisch Eifel, IHK Trier, KJU Trier, HWK Trier und die Wi
 rtschaftsförderer der Region Trier.\n\nIm Rahmen des Gründerinnenfests find
 et auch die Verleihung des IHK-Gründerinnenpreises 2025 statt.\n\nDie Veran
 staltung ist kostenlos.\n\nAnmeldeschluss ist der 12. November 2025.
LOCATION:IHK Trier, Bildungszentrum
DTSTAMP:20251009T113036Z
DTSTART:20251117T093000Z
DTEND:20251117T130000Z
END:VEVENT
END:VCALENDAR
