BEGIN:VCALENDAR
VERSION:2.0
PRODID:https://github.com/derhansen/sf_event_mgt
METHOD:PUBLISH
BEGIN:VEVENT
UID:2871-141@isb.rlp.de
CLASS: PUBLIC
SUMMARY:GO FAR GROW FAST - Empowering German Startups to Scale Globally
DESCRIPTION:Erfahren Sie am 29.07.2021 um 12:00 Uhr bei der Online-Veransta
 ltung „Go Far Grow Fast - Empowering German Startups to Scale Globally“, wi
 e Sie mit Ihrem Unternehmen die ersten Schritte in Sachen Auslandsexpansion
  wagen können. Der German Accelerator klärt auf, wie er deutsche Start-ups 
 befähigt, global zu skalieren: durch intensive Workshops und den Austausch 
 mit erfahrenen Experten sowie Zugang zu einem globalen Netzwerk von Geschäf
 tspartnern und Investoren. Außerdem gibt die Investitions- und Strukturbank
  Rheinland-Pfalz (ISB) Finanzierungstipps für eine gelungene Produktvermark
 tung im Ausland und ein deutsches Start-up berichtet aus erster Hand von de
 n Erfahrungen mit dem German Accelerator, der seit 2012 über 300 Start-ups 
 gefördert hat, die bislang mehr als 4,9 Milliarden US-Dollar eingeworben ha
 ben.   Anmeldung unter:  https://us06web.zoom.us/meeting/register/tZ0ufuyhp
 zspE93H6D6ZedhAeEhq3c5n4uzT 
DTSTAMP:20210721T092948Z
DTSTART:20210729T100000Z
END:VEVENT
END:VCALENDAR
