BEGIN:VCALENDAR
VERSION:2.0
PRODID:https://github.com/derhansen/sf_event_mgt
METHOD:PUBLISH
BEGIN:VEVENT
UID:2411-141@isb.rlp.de
CLASS: PUBLIC
SUMMARY:Für Unternehmen: Rheinland-Pfalz macht’s effizient
DESCRIPTION: Das lohnt sich für Unternehmen: Maßnahmen für mehr Energieeffi
 zienz können vom Bundesministerium für Wirtschaft und Energie (BMWi) und vo
 n den Ländern gefördert werden. Experten informieren im Gutenberg Digital H
 ub in Mainz über Förderangebote für Unternehmen und Praxisbeispiele für meh
 r Energieeffizienz, wie etwa aus der Industrie- und Textilpflege sowie zum 
 Thema Energieeffizienz 4.0. \n\nDazu lädt das BMWi gemeinsam mit der Energi
 eagentur Rheinland-Pfalz Unternehmensvertreter aus allen Branchen herzlich 
 ein. Unterstützt wird das Programm vom Ministerium für Wirtschaft, Verkehr,
  Landwirtschaft und Weinbau Rheinland-Pfalz, vom VDI Landesverband Rheinlan
 d-Pfalz, von der Initiative Energieeffizienz-Netzwerke, von der Investition
 s- und Strukturbank Rheinland-Pfalz (ISB) sowie vom Effizienznetz Rheinland
 -Pfalz.
LOCATION:Gutenberg Digital Hub
DTSTAMP:20190313T142717Z
DTSTART:20190328T083000Z
DTEND:20190328T170000Z
END:VEVENT
END:VCALENDAR
