BEGIN:VCALENDAR
VERSION:2.0
PRODID:https://github.com/derhansen/sf_event_mgt
METHOD:PUBLISH
BEGIN:VEVENT
UID:1311-141@isb.rlp.de
CLASS: PUBLIC
SUMMARY:Forum für Existenzgründer und junge Unternehmen, Koblenz
DESCRIPTION:Die Starterzentren der Handwerkskammer und der Industrie- und H
 andelskammer Koblenz haben Experten unterschiedlicher Fachrichtungen eingel
 aden, die bei der Gründung mit Tipps und Wissen weiterhelfen. Diese Fachleu
 te informieren kostenfrei und unverbindlich im persönlichen Gespräch am Inf
 omarkt oder im Workshop.
LOCATION:Handwerkskammer Koblenz - Zentrum für Ernährung und Gesundheit
DTSTAMP:20171006T093501Z
DTSTART:20170923T080000Z
DTEND:20170923T123000Z
END:VEVENT
END:VCALENDAR
