BEGIN:VCALENDAR
VERSION:2.0
PRODID:https://github.com/derhansen/sf_event_mgt
METHOD:PUBLISH
BEGIN:VEVENT
UID:2598-141@isb.rlp.de
CLASS: PUBLIC
SUMMARY:ABGESAGT:Fortsetzung folgt! Tag der Unternehmensnachfolge in Mayen/
 Koblenz
DESCRIPTION:Auch die Investitions- und Strukturbank Rheinland-Pfalz (ISB), 
 die Rhein-Zeitung/Die Wirtschaft und die Volksbank RheinAhrEifel eG beobach
 ten seit einigen Tagen die Ausbreitung des Corona-Virus und die damit zusam
 menhängenden Konsequenzen.\n\nUm Teilnehmende und Mitarbeitende nicht einem
  unnötigen Risiko auszusetzen, haben wir uns in Abstimmung mit allen Partne
 rn dazu entschlossen, die für den 12. März 2020 geplante Veranstaltung Fort
 setzung folgt! Tag der Unternehmensnachfolge zu verschieben.\n\nWir gehen d
 erzeit davon aus, dass wir Sie baldmöglichst zu einem Alternativtermin einl
 aden werden. Sobald dieser feststeht, werden wir Sie hierüber informieren.\
 n\nWir haben uns diese Entscheidung nicht leicht gemacht, tragen aber als V
 eranstalter für die Gesundheit und die Sicherheit aller Beteiligten die Ver
 antwortung. Die Volksbank RheinAhrEifel eG trägt die Entscheidung aller bet
 eiligter Partner mit, weist aber darauf hin, dass man - zum aktuellen Zeitp
 unkt - die bankeigenen Veranstaltungen in den kommenden Wochen durchführen 
 wird.\n\nWir danken herzlich für Ihr Verständnis.\n\n\n\n
LOCATION:Volksbank RheinAhrEifel eG
DTSTAMP:20200311T074206Z
DTSTART:20200312T170000Z
END:VEVENT
END:VCALENDAR
